BEGIN:VCALENDAR
VERSION:2.0
PRODID:-//Century House Association - ECPv6.15.20//NONSGML v1.0//EN
CALSCALE:GREGORIAN
METHOD:PUBLISH
X-ORIGINAL-URL:https://centuryhouseassociation.com
X-WR-CALDESC:Events for Century House Association
REFRESH-INTERVAL;VALUE=DURATION:PT1H
X-Robots-Tag:noindex
X-PUBLISHED-TTL:PT1H
BEGIN:VTIMEZONE
TZID:America/Vancouver
BEGIN:DAYLIGHT
TZOFFSETFROM:-0800
TZOFFSETTO:-0700
TZNAME:PDT
DTSTART:20230312T100000
END:DAYLIGHT
BEGIN:STANDARD
TZOFFSETFROM:-0700
TZOFFSETTO:-0800
TZNAME:PST
DTSTART:20231105T090000
END:STANDARD
BEGIN:DAYLIGHT
TZOFFSETFROM:-0800
TZOFFSETTO:-0700
TZNAME:PDT
DTSTART:20240310T100000
END:DAYLIGHT
BEGIN:STANDARD
TZOFFSETFROM:-0700
TZOFFSETTO:-0800
TZNAME:PST
DTSTART:20241103T090000
END:STANDARD
BEGIN:DAYLIGHT
TZOFFSETFROM:-0800
TZOFFSETTO:-0700
TZNAME:PDT
DTSTART:20250309T100000
END:DAYLIGHT
BEGIN:STANDARD
TZOFFSETFROM:-0700
TZOFFSETTO:-0800
TZNAME:PST
DTSTART:20251102T090000
END:STANDARD
END:VTIMEZONE
BEGIN:VEVENT
DTSTART;TZID=America/Vancouver:20241106T190000
DTEND;TZID=America/Vancouver:20241106T210000
DTSTAMP:20260422T071059
CREATED:20241017T205346Z
LAST-MODIFIED:20241017T205346Z
UID:10000164-1730919600-1730926800@centuryhouseassociation.com
SUMMARY:The Dialogue Coffeehouse: Because We Loved\, We Sing\, We Laugh\, and We Cry
DESCRIPTION:Enjoy a musical dialogue with performances by Luc LeMans and Norine Braun in a coffeehouse setting. Refreshments will be served by our partners from the Beacon Unitarian Church. Suggested $10 donation at the door\, space is limited so register early. Presented by Arts New West and Century House Association. Proceeds go to New West Hospice Society. \nThis will be in The Gallery at Queen’s Park\, Centennial Lodge \nThis is part of the 2024 Dialogue on Death & Dying.
URL:https://centuryhouseassociation.com/eventcal/the-dialogue-coffeehouse-because-we-loved-we-sing-we-laugh-and-we-cry/
LOCATION:The Gallery at Queen’s Park\, Centennial Lodge
CATEGORIES:music-dance
ATTACH;FMTTYPE=image/jpeg:https://centuryhouseassociation.com/wp-content/uploads/D-and-D-featimage-2024.jpg
END:VEVENT
END:VCALENDAR